BEGIN:VCALENDAR
PRODID:-//hacksw/handcal//NONSGML v1.0//EN
VERSION:2.0
METHOD:PUBLISH
BEGIN:VEVENT
DTSTART:20260428T123000Z
DTEND:20260428T141500Z
LOCATION:Midland Hills Country Club, Roseville, Minnesota
UID:2770420260428T123000ZBreakfast Meeting: Recent Updates in Estate Planning for Tangible Personal Property – Minneapolis Edition!
DTSTAMP:20260420T023614Z
DESCRIPTION:\n\n \nTCEPC April 28th Morning Meeting\n 7:30 AM - 9:00 AM\n \nIf you cannot attend April 28th, but wish to renew your membership or become a Sponsor, [click this link.](https://www.twincitiesepc.org/members/renewal)\n \nRecent Updates in Estate Planning for Tangible Personal Property – Minneapolis Edition!\n \nLooking at recent updates from USPAP, the Art Advisory Panel, and a review of the appraisal types and how they best fit into an estate plan. Also addressed are issues with authenticity, liquidity, restitution, and shifts in the art market and how they impact planning and post-death administration. Case studies and tales from the art world with a focus on the upcoming 250th anniversary of the signing of the Declaration of Independence and some examples from Minnesota.\n \nBy attending this session, advisors will …\n Describe recent updates to USPAP and guidance from the Art Advisory Panel and their relevance to art appraisals in estate planning. Identify appraisal types and determine their appropriate application within an estate plan, including considerations of authenticity, liquidity, and restitution. Recognize current shifts in the art market and analyze case studies to understand their impact on planning and post-death administration. \n\n  Molly Gron, J.D.\n Managing Director, Trusts, Estates & Private Clients Group, Freeman's \nMolly Gron, J.D., is Managing Director, Trusts, Estates and Private Clients Group, at Freeman's.  Molly joined Freeman's in 2015. She has over 20 years of experience in the art and appraisal world, focusing on advising trust officers, fiduciaries, estate planning professionals, and their private clients. She serves on her firm's Management Committee and regularly works with family offices, beneficiaries, and institutions across the country. \n  \nShe holds a B.A. from Villanova University, M.A. in Art Business from Sotheby’s Institute of Art, and a J.D. from DePaul University College of Law concentrating her studies within the Center for Art, Museum & Cultural Heritage Law.  \n  \nMolly is frequently tapped as a speaker on a variety of topics around estate planning for tangible personal property.
SUMMARY:Breakfast Meeting: Recent Updates in Estate Planning for Tangible Personal Property – Minneapolis Edition! - Twin Cities Estate Planning Council 
PRIORITY:3
BEGIN:VALARM
TRIGGER:PT18H
ACTION:DISPLAY
DESCRIPTION:Reminder
END:VALARM
END:VEVENT
END:VCALENDAR