BEGIN:VCALENDAR
PRODID:-//hacksw/handcal//NONSGML v1.0//EN
VERSION:2.0
METHOD:PUBLISH
BEGIN:VEVENT
DTSTART:20250722T220000Z
DTEND:20250723T023000Z
LOCATION:The Lost Fox/CHS Field
UID:2756220250722T220000ZHappy Hour & Saint Paul Saints Baseball Summer Social
DTSTAMP:20260420T093916Z
DESCRIPTION:\n[DETAILS](https://cvent.me/d31b1b)\n[REGISTRATION](https://cvent.me/qDzdzw) \n \n \n \n \n \n \n \n \n \n \n \n \n \n \n \n \n \n \n \n \n \n \n \n \n \n \nTCEPC: Pre-Game Happy Hour & Saint Paul Saints Game - July 22\n       \n \n \n \n \n \n      \n \n \n \n \n \n \nMembers and guests are invited to meet for a pre-game happy hour with food and beverages at The Lost Fox before attending the Saint Paul Saints baseball game at CHS Field on July 22nd.  Join us for a summer networking social starting at 5:00 pm. Around 6:30 pm, we’ll walk a couple of blocks to “take you out to the ball game.” The group will all be seated together to cheer on the Saint Paul Saints as they play the Worcester Red Sox starting at 7:07 PM. You won’t want to miss this fun summer night out at the ball game. It’s sure to be a hit!\n \nReserve your seat. Tickets are limited, so register today!\n \nRegistration & Networking at the Lost Fox: 5:00 pm\n Happy Hour Drinks & Food at the Lost Fox: 5:00 pm - 6:30 pm\n Walk over to CHS Field as a group at 6:30 - 6:45 pm\n St. Paul Saint’s Game Starts: 7:07 pm\n \nParking – [Parking ramp or street parking available](https://issuu.com/stpaulsaints/docs/2019_parking_map?fr=sNTdhMjM2MTI0Mzc) \n \n \n       \n \n \n \n \n \nRegister By \nJuly 18, 20255:00 PM      \n \n \n \n \n \n \n            \n \n \n \n \n \n \n \n \n \n
SUMMARY:Happy Hour & Saint Paul Saints Baseball Summer Social - Twin Cities Estate Planning Council 
PRIORITY:3
BEGIN:VALARM
TRIGGER:PT18H
ACTION:DISPLAY
DESCRIPTION:Reminder
END:VALARM
END:VEVENT
END:VCALENDAR