BEGIN:VCALENDAR
PRODID:-//hacksw/handcal//NONSGML v1.0//EN
VERSION:2.0
METHOD:PUBLISH
BEGIN:VEVENT
DTSTART:20251028T163000Z
DTEND:20251028T183000Z
LOCATION:Pizza Lucé - Eden Prairie
UID:2753620251028T163000ZFall Private Luncheon at Pizza Lucé - Eden Prairie sponsored by Revere Auctions
DTSTAMP:20260420T094038Z
DESCRIPTION:\n[DETAILS](https://cvent.me/lrX7zP)\n[REGISTRATION](https://cvent.me/grzmRn) \n \n \n \n \n \n \n \n \n \n \n \n \n \n \n \n \nLet’s be social! The Twin Cities Estate Planning Council is hosting a Private Luncheon on Tuesday, October 28th from 11:30 am – 1:30 pm at Pizza Lucé - Eden Prairie. Enjoy a Pizza Buffet along with refreshments while having insightful conversations with like-minded professionals.  \n       \n \n \n \n \n \n \n \nRegister By\n   \nOctober 27, 20255:00 PM      \n \n \n \n \n \n \n            \n \n \n \n \n \n \n \n \n \n \nSponsored by:\n       \n \n \n \n \n \n
SUMMARY:Fall Private Luncheon at Pizza Lucé - Eden Prairie sponsored by Revere Auctions - Twin Cities Estate Planning Council 
PRIORITY:3
BEGIN:VALARM
TRIGGER:PT18H
ACTION:DISPLAY
DESCRIPTION:Reminder
END:VALARM
END:VEVENT
END:VCALENDAR