BEGIN:VCALENDAR
PRODID:-//hacksw/handcal//NONSGML v1.0//EN
VERSION:2.0
METHOD:PUBLISH
BEGIN:VEVENT
DTSTART:20250527T203000Z
DTEND:20250527T233000Z
LOCATION:Wooden Hill Brewing Company 7421 Bush Lake Rd, Edina, MN 55439
UID:2615020250527T203000ZAfternoon Meeting: Mediation Panel followed by Happy Hour 
DTSTAMP:20260420T093905Z
DESCRIPTION:\n[DETAILS](https://cvent.me/xR7mer)\n[REGISTRATION](https://cvent.me/2Mzvak) \n \n \n \n \n \n \nResolving Trust and Estate Disputes Through Mediation\n Panelists: The Honorable Robert Blaeser | Denise Rahne | Alan Silver\n Moderator: Casey Marshall\n       \n \n \n \n \n \n \nThe panel of mediation experts will discuss the role of mediation in resolving trust and estate disputes. Panelists will share insights on the importance of mediation, mediation strategies and techniques, and why mediation is especially important in highly charged disputes between family members in the trust and estate context. Key topics will include the benefits of mediation, managing emotions during mediation, ethical considerations, and other issues unique to the trust and estate context. The panelists will provide real world examples and case studies to illustrate successful outcomes and emphasize the importance of mediation in trust and estate disputes.\n \nLearning Objectives\n By attending this session, attendees will be able to…\n Understand the Mediation Process – Learn the roles of mediator, attorneys, and participants, and the how a mediation plays out from selection of a mediator to resolution. Develop Effective Mediation Skills – Gain practical strategies for selecting a mediator, making effective mediation submissions, communicating with clients, and negotiating during a mediation.  Recognize Ethical and Practical Considerations in Mediation – Identify the ethical responsibilities of mediators, attorneys, and parties involved in mediation. \nRegistration and Networking: 3:30 pm\n Presentation Begins: 4:00 pm\n Program Ends: 5:00 pm\n Happy Hour & Networking: 5:00 pm – 6:30 pm\n \nAnticipated CE: 1 CFP®, 1 MN Insurance & 1 CLE Credit\n       \n \n \n \n \n \n \n \n \n \n \n \n \n[Wooden Hill Brewing Company – Brewers Lounge](https://woodenhillbrewing.com/)\n        \n \n \n \n \n \n \nStick around after the meeting for our Happy Hour (well 90 minutes, actually). Enjoy heavy appetizers and beverages as well as  conversation with your professional community members.  \n
SUMMARY:Afternoon Meeting: Mediation Panel followed by Happy Hour  - Twin Cities Estate Planning Council 
PRIORITY:3
BEGIN:VALARM
TRIGGER:PT18H
ACTION:DISPLAY
DESCRIPTION:Reminder
END:VALARM
END:VEVENT
END:VCALENDAR