BEGIN:VCALENDAR
PRODID:-//hacksw/handcal//NONSGML v1.0//EN
VERSION:2.0
METHOD:PUBLISH
BEGIN:VEVENT
DTSTART:20250213T220000Z
DTEND:20250214T010000Z
LOCATION:The Local – West End
UID:2614620250213T220000ZWinter Social Networking Event
DTSTAMP:20260420T093730Z
DESCRIPTION:\n[DETAILS](https://cvent.me/X7o0Xo)\n[REGISTRATION](https://cvent.me/aEoOlZ) \n \n \n \n \n \n \nTCEPC February 13 Networking Social:\n "Connect with Cocktails" \n       \n \n \n \n \n \n \nJoin us at The Local (in the Cooper's Room), located at The Shops on the West End on February 13th, 2025 from 4:00-7:00 pm. Bring your  appetite, enjoy heavy appetizers and the private beverage service while  you mingle. We are excited to welcome you to an afternoon of  conversation with your professional community members. Don’t  forget to take advantage of the underground parking, it is February in  Minnesota!\n
SUMMARY:Winter Social Networking Event - Twin Cities Estate Planning Council 
PRIORITY:3
BEGIN:VALARM
TRIGGER:PT18H
ACTION:DISPLAY
DESCRIPTION:Reminder
END:VALARM
END:VEVENT
END:VCALENDAR