BEGIN:VCALENDAR
PRODID:-//hacksw/handcal//NONSGML v1.0//EN
VERSION:2.0
METHOD:PUBLISH
BEGIN:VEVENT
DTSTART:20241119T133000Z
DTEND:20241119T150000Z
LOCATION:Midland Hills - Seth Raynor Room
UID:2614420241119T133000ZBreakfast meeting: The Great Sunset of 2026
DTSTAMP:20260420T094149Z
DESCRIPTION:\n[DETAILS](https://cvent.me/Rw1vKQ)\n[REGISTRATION](https://cvent.me/LXnqd2) \n \n \n \n \n \n \nMany provisions of the Tax Cuts and Jobs Act (TCJA) will sunset starting in 2026.  This program will discuss which tax provisions will be impacted, and how to plan for these changes.\n \nLearning Objectives\n \nBy Attending this Session Advisors will…. \n Learn which provisions of the TCJA will sunset in 2026.  Learn strategies for dealing with these changes. Learn about possible legislation coming from the new Congress. \nRegistration, Networking, and Breakfast: 7:30 am\n Presentation Begins: 8:00 am\n Program Ends: 9:00 am\n \nAnticipated CE: 1 CFP® & 1 MN Insurance\n
SUMMARY:Breakfast meeting: The Great Sunset of 2026 - Twin Cities Estate Planning Council 
PRIORITY:3
BEGIN:VALARM
TRIGGER:PT18H
ACTION:DISPLAY
DESCRIPTION:Reminder
END:VALARM
END:VEVENT
END:VCALENDAR