BEGIN:VCALENDAR
PRODID:-//hacksw/handcal//NONSGML v1.0//EN
VERSION:2.0
METHOD:PUBLISH
BEGIN:VEVENT
DTSTART:20241017T200000Z
DTEND:20241017T230000Z
LOCATION:Urban Growler, Barrel Room
UID:2614320241017T200000ZFall Social Event
DTSTAMP:20260420T093437Z
DESCRIPTION:\n[DETAILS](https://cvent.me/yDDaOm)\n[REGISTRATION](https://cvent.me/MllkEa) \n \n \n \n \n \n \nLet’s be social! The Twin Cities Estate Planning Council is hosting a professional networking social on Thursday, October 17th from 3:00 pm – 6:00 pm at Urban Growler Brewing Company in the private Barrel Room. \n \nWe'd lie to thank Revere Auctions as a sponsor, and we will have an “Auctions 101” session in addition to the networking.\n \nYou are invited to enjoy a BBQ buffet along with refreshments while having insightful conversations with like-minded professionals.  \n
SUMMARY:Fall Social Event - Twin Cities Estate Planning Council 
PRIORITY:3
BEGIN:VALARM
TRIGGER:PT18H
ACTION:DISPLAY
DESCRIPTION:Reminder
END:VALARM
END:VEVENT
END:VCALENDAR