BEGIN:VCALENDAR
PRODID:-//hacksw/handcal//NONSGML v1.0//EN
VERSION:2.0
METHOD:PUBLISH
BEGIN:VEVENT
DTSTART:20240924T123000Z
DTEND:20240924T140000Z
LOCATION:Midland Hills - Small Turnberry Room
UID:2614220240924T123000ZBreakfast meeting: Legislative Review
DTSTAMP:20260420T094315Z
DESCRIPTION:\n[DETAILS](https://cvent.me/aEzQ8E)\n[REGISTRATION](https://cvent.me/X7zk39) \n \n \n \n \n \n \nToday's discussion will focus on Minnesota's Commerce regulated industries. \n \nLearning Objectives\n \nBy Attending this Session Advisors will…. \n Discuss law updates What could happen in 2025 legislative session  the "work from home" impact on commercial real estate \nRegistration, Networking, and Breakfast: 7:30 am\n Presentation Begins: 8:00 am\n Program Ends: 9:00 am\n
SUMMARY:Breakfast meeting: Legislative Review - Twin Cities Estate Planning Council 
PRIORITY:3
BEGIN:VALARM
TRIGGER:PT18H
ACTION:DISPLAY
DESCRIPTION:Reminder
END:VALARM
END:VEVENT
END:VCALENDAR