BEGIN:VCALENDAR
PRODID:-//hacksw/handcal//NONSGML v1.0//EN
VERSION:2.0
METHOD:PUBLISH
BEGIN:VEVENT
DTSTART:20230328T123000Z
DTEND:20230328T140000Z
LOCATION:Midland Hills - Small Turnberry Room
UID:2296320230328T123000ZBreakfast meeting: Hotel Minnesota - Residency and Relocation.
DTSTAMP:20260420T094341Z
DESCRIPTION:\n[DETAILS](https://cvent.me/zyMo0a)\n[REGISTRATION](https://cvent.me/A8Q9yW) \n \n \n \n \n \n \nWhat determines your state of residence for tax purposes? Understanding the Physical Presence Test – 183 Day Rule and the Minnesota Department of Revenue factors to determine your intentions.\n \nLearning Objectives\nAttendees will leave with:   \n knowledge on current tax rates and rules; an understanding of the law related to residency and domicile; and an awareness of the social and economic impact of flight to other states. \nRegistration, Networking, and Breakfast: 7:30 am\n Presentation Begins: 8:00 am\n Program Ends: 9:00 am\n \nAnticipated CE: 1 CFP®1 MN Insurance & 1 CLE Credit\n
SUMMARY:Breakfast meeting: Hotel Minnesota - Residency and Relocation. - Twin Cities Estate Planning Council 
PRIORITY:3
BEGIN:VALARM
TRIGGER:PT18H
ACTION:DISPLAY
DESCRIPTION:Reminder
END:VALARM
END:VEVENT
END:VCALENDAR