BEGIN:VCALENDAR
PRODID:-//hacksw/handcal//NONSGML v1.0//EN
VERSION:2.0
METHOD:PUBLISH
BEGIN:VEVENT
DTSTART:20230124T133000Z
DTEND:20230124T150000Z
LOCATION:MN Society of CPAs Education Center - Itasca Room
UID:2296120230124T133000ZBreakfast meeting: 2023 Economic and Market Update and Outlook
DTSTAMP:20260420T094508Z
DESCRIPTION:\n[DETAILS](https://cvent.me/rQ8l5o)\n[REGISTRATION](https://cvent.me/WqPEDL) \n \n \n \n \n \n \n2022 was a very difficult period for investors as both the stock market and bond market experienced bear markets as inflation accelerated, the Russian invasion of Ukraine and severe Covid in China roiled the commodity markets and supply chains, forcing the Federal Reserve to aggressively raise interest rates to slow down seemingly accelerating inflation. As we enter 2023, these aggressive actions seem to be working but many questions whether the US will be entering a recession this year or next year. As a result, there are many questions about whether the equity bear market will continue or even get worse in the first half of the year. \n \nJonathan Scharlau will review the important economic and market factors that impacted 2022 and will provide an outlook for 2023 and review the potential risks and opportunities. In addition, he will review the recently passed Secure 2.0 Act and how it will impact retirement planning in the years ahead.\n \nLearning Objectives\nBy attending this session advisors will be:   \n Understanding of the current economic situation and outlook for 2023. Review of 4th Quarter and 2022 performance trends across markets. Review of Outlook for the economy and markets for 2023 and potential positioning of portfolios. Review of the recently passed Secure 2.0 Act and how it will impact retirement planning. \nRegistration, Networking, and Breakfast: 7:30 am\n Presentation Begins: 8:00 am\n Program Ends: 9:00 am\n \nAnticipated CE: 1 CFP®1 MN Insurance & 1 CLE Credit\n
SUMMARY:Breakfast meeting: 2023 Economic and Market Update and Outlook - Twin Cities Estate Planning Council 
PRIORITY:3
BEGIN:VALARM
TRIGGER:PT18H
ACTION:DISPLAY
DESCRIPTION:Reminder
END:VALARM
END:VEVENT
END:VCALENDAR