BEGIN:VCALENDAR
PRODID:-//hacksw/handcal//NONSGML v1.0//EN
VERSION:2.0
METHOD:PUBLISH
BEGIN:VEVENT
DTSTART:20220524T124500Z
DTEND:20220524T140000Z
LOCATION:Zoom - Register through CVent 
UID:2234920220524T124500ZVirtual Morning Meeting: Estate Planning For Crypto Assets
DTSTAMP:20260424T083607Z
DESCRIPTION:\n[DETAILS](https://cvent.me/D2ObaO)\n[REGISTRATION](https://cvent.me/xvEdgR) \n \n \n \n \n \nThis presentation will explain digital assets and crypto assets to those of us who would like to better understand these investments and the related terminology. I will address blockchain, keys, wallets, exchanges, NFTs, forks, airdrops, mining, how to buy crypto, and the risks of crypto investing. From there, I will identify and discuss the five most significant challenges to estate planning for crypto assets. Finally, I will offer suggestions for estate planning in connection with crypto assets (including cryptocurrency) in order to assist financial advisors, lawyers, and investors in addressing those five challenges, avoiding pitfalls, and achieving estate planning objectives.\n \nLearning Objectives\nBy attending this session advisors will learn:   \n Understanding the terms associated with crypto assets (listed above). Understanding the challenges of estate planning for crypto assets. Learning what key steps to take in estate planning for crypto assets. \nZoom Webinar Login: 7:45 – 7:55 am\n Announcements: 7:55 – 8:00 am\n Presentation: 8:00 – 9:00 am\n \nAnticipated CE: 1 CFP®1 MN Insurance & 1 CLE Credit\n
SUMMARY:Virtual Morning Meeting: Estate Planning For Crypto Assets - Twin Cities Estate Planning Council 
PRIORITY:3
BEGIN:VALARM
TRIGGER:PT18H
ACTION:DISPLAY
DESCRIPTION:Reminder
END:VALARM
END:VEVENT
END:VCALENDAR