BEGIN:VCALENDAR
PRODID:-//hacksw/handcal//NONSGML v1.0//EN
VERSION:2.0
METHOD:PUBLISH
BEGIN:VEVENT
DTSTART:20211019T201500Z
DTEND:20211019T213000Z
LOCATION:ZOOM
UID:2155720211019T201500ZVirtual AFTERNOON Meeting: ALL HANDS ON DECK: Planning Pitfalls for Family Owned Businesses
DTSTAMP:20260420T094154Z
DESCRIPTION:\n[DETAILS](https://cvent.me/RbZwr3)\n[REGISTRATION](https://cvent.me/QrG1Wn) \n \n \n \n \n \nLearn from a panel of experts in the legal, tax and fiduciary fields as they discuss the various challenges and special wealth transfer, income and estate tax considerations for closely held, family owned businesses.\n \nLearning Objectives\n By attending this session advisors will learn:  \n Learn about the importance of buy/sell agreements and how to help your clients avoid some of the unintended consequences caused by poor coordination between corporate counsel and personal estate planning counsel. Learn how to identify and address frequent sources of conflict between family members and corporate stakeholders. Learn how to identify and recommend appropriate sources for estate tax payments for estates that hold closely held and family businesses. \nZoom Webinar Login: 3:15 – 3:25 pm\nAnnouncements: 3:25 – 3:30 pm\nPresentation: 3:30 – 4:30 pm\n \nApproved CE: 1 CFP® & 1 CLE Credit\n
SUMMARY:Virtual AFTERNOON Meeting: ALL HANDS ON DECK: Planning Pitfalls for Family Owned Businesses - Twin Cities Estate Planning Council 
PRIORITY:3
BEGIN:VALARM
TRIGGER:PT18H
ACTION:DISPLAY
DESCRIPTION:Reminder
END:VALARM
END:VEVENT
END:VCALENDAR