BEGIN:VCALENDAR
PRODID:-//hacksw/handcal//NONSGML v1.0//EN
VERSION:2.0
METHOD:PUBLISH
BEGIN:VEVENT
DTSTART:20210323T124500Z
DTEND:20210323T140000Z
LOCATION:Zoom - Register through CVent
UID:2076620210323T124500ZVirtual Morning Meeting:  MN Estate and Local Taxes re: Trusts
DTSTAMP:20260420T093748Z
DESCRIPTION:\n[DETAILS](https://www.cvent.com/d/vjqq4z)\n[REGISTRATION](https://www.cvent.com/d/vjqq4z/4W)\n \nThis presentation will provide you with an update on significant state and local tax issues with respect to trusts including the latest information on the definition of a resident trust here in Minnesota and around the country. In this presentation you will learn about the Minnesota Supreme Court's decision in Fielding v. Commissioner, the U.S. Supreme Court's decision in Kaestner v. North Carolina, and the actions being considered by the Minnesota Legislature on changing Minnesota's definition of resident trust. \n \nLearning Objectives\n The learning objectives for this presentation are:\n You will understand the facts and ruling in the US Supreme Court's ruling in Kaestner.  You will develop an understanding of the Minnesota Supreme Court's ruling in Fielding v. Commissioner  You will gain insight to potential changes to the Minnesota definition of resident trust.  You will be provided with information on current developments in fiduciary income tax in other states.  \nPending CE: 1 CFP®, 1 CLE Credit & 1 MN Insurance Continuing Education credits\n\n Zoom Webinar Login: 7:45 – 7:55 am\n Announcements: 7:55 – 8:00 am\n Presentation: 8:00 – 9:00 am\n \n \n
SUMMARY:Virtual Morning Meeting:  MN Estate and Local Taxes re: Trusts - Twin Cities Estate Planning Council 
PRIORITY:3
BEGIN:VALARM
TRIGGER:PT18H
ACTION:DISPLAY
DESCRIPTION:Reminder
END:VALARM
END:VEVENT
END:VCALENDAR