BEGIN:VCALENDAR
PRODID:-//hacksw/handcal//NONSGML v1.0//EN
VERSION:2.0
METHOD:PUBLISH
BEGIN:VEVENT
DTSTART:20200428T123000Z
DTEND:20200428T140000Z
LOCATION:Midland Hills Country Club
UID:1936220200428T123000ZPOSTPONED:  Qualified Opportunity Zones: What Investors Should Know
DTSTAMP:20260420T093759Z
DESCRIPTION:
SUMMARY:POSTPONED:  Qualified Opportunity Zones: What Investors Should Know - Twin Cities Estate Planning Council 
PRIORITY:3
BEGIN:VALARM
TRIGGER:PT18H
ACTION:DISPLAY
DESCRIPTION:Reminder
END:VALARM
END:VEVENT
END:VCALENDAR