BEGIN:VCALENDAR
PRODID:-//hacksw/handcal//NONSGML v1.0//EN
VERSION:2.0
METHOD:PUBLISH
BEGIN:VEVENT
DTSTART:20200922T124500Z
DTEND:20200922T140000Z
LOCATION:ZOOM - Register through CVent
UID:1803320200922T124500ZVirtual Morning Meeting - You and Your Aging Clients: Long Term Care & Critical Illness Planning
DTSTAMP:20260420T094105Z
DESCRIPTION:\n[DETAILS](http://www.cvent.com/d/ynqfcl)\n[REGISTRATION](http://www.cvent.com/d/ynqfcl/4W) \n  \n \nThis session is a comprehensive overview of what professionals need to now to best help advise their clients, friends and family about the topic and issues of Long Term Care Planning.\n \nLearning Objectives - Session participants will learn:\n What is Long Term Care, the probability of needing care, and the crisis occurring in our country. Common misconceptions about long-term care insurance, health insurance, Medicare and Medicaid. Factors to consider when planning for the need of a chronic and/or critical care illness. Costs of care in Minnesota and across the United States. Solutions available today to solve for the need of long-term care. Reasons why one should consider long-term care insurance planning. Suggestions and resources to help you speak with your clients, friends and family about the legal, medical, and financial issues associated with aging. \nApproved CE: 1 CFP® & 1 CLE & 1 MN Insurance\n \nZoom Webinar Login: 7:45 – 7:55 am\n Announcements: 7:55 – 8:00 am\n Presentation: 8:00 – 9:00 am\n
SUMMARY:Virtual Morning Meeting - You and Your Aging Clients: Long Term Care & Critical Illness Planning - Twin Cities Estate Planning Council 
PRIORITY:3
BEGIN:VALARM
TRIGGER:PT18H
ACTION:DISPLAY
DESCRIPTION:Reminder
END:VALARM
END:VEVENT
END:VCALENDAR