BEGIN:VCALENDAR
PRODID:-//hacksw/handcal//NONSGML v1.0//EN
VERSION:2.0
METHOD:PUBLISH
BEGIN:VEVENT
DTSTART:20181023T123000Z
DTEND:20181023T140000Z
LOCATION:Midland Hills Country Club
UID:1653320181023T123000ZBreakfast Meeting: Planning for the new tax changes
DTSTAMP:20260420T093518Z
DESCRIPTION:\n[DETAILS](http://www.cvent.com/d/wgqbn9)\n[REGISTRATION](http://www.cvent.com/d/wgqbn9/4W) \n  \nYou have heard the details of the key provisions of the Tax Cuts and Jobs Act. Now it is time to determine how to plan to insure you don’t miss an opportunity under these new sets of rules.  \n  \nOur presenter will discuss how the legislation will affect your tax and financial planning strategies in the following critical areas: Federal and state income tax Business ownership Estate and wealth transfer \n \nRegistration, Networking, and Breakfast: 7:30 am\n Presentation Begins: 8:00 am\n Program Ends: 9:00 am \n
SUMMARY:Breakfast Meeting: Planning for the new tax changes - Twin Cities Estate Planning Council 
PRIORITY:3
BEGIN:VALARM
TRIGGER:PT18H
ACTION:DISPLAY
DESCRIPTION:Reminder
END:VALARM
END:VEVENT
END:VCALENDAR