BEGIN:VCALENDAR
PRODID:-//hacksw/handcal//NONSGML v1.0//EN
VERSION:2.0
METHOD:PUBLISH
BEGIN:VEVENT
DTSTART:20180326T123000Z
DTEND:20180326T140000Z
LOCATION:Midland Hills Country Club
UID:1611520180326T123000ZBreakfast Meeting: Exit Planning / Family Business
DTSTAMP:20260420T082443Z
DESCRIPTION:\n \nDescription coming soon...\n \n \n \nRegistration, Networking, and Breakfast: 7:30 am\n Presentation Begins: 8:00 am\n Program Ends: 9:00 am \n
SUMMARY:Breakfast Meeting: Exit Planning / Family Business - Twin Cities Estate Planning Council 
PRIORITY:3
BEGIN:VALARM
TRIGGER:PT18H
ACTION:DISPLAY
DESCRIPTION:Reminder
END:VALARM
END:VEVENT
END:VCALENDAR