BEGIN:VCALENDAR
PRODID:-//hacksw/handcal//NONSGML v1.0//EN
VERSION:2.0
METHOD:PUBLISH
BEGIN:VEVENT
DTSTART:20190122T133000Z
DTEND:20190122T150000Z
LOCATION:Midland Hills Country Club
UID:1611320190122T133000ZBreakfast Meeting: Tax Considerations in Business Transition Planning
DTSTAMP:20260420T094022Z
DESCRIPTION:\n \nTax Considerations in Business Transition Planning\nPresenters Thomas Dougherty, JD and Greg Carlson, CFP®, MBT, CDFA™, RICP®, CPA/PFS\n \n[REGISTRATION LINK](http://www.cvent.com/d/dbqyl9/4W)\n \n[DETAILS LINK](http://www.cvent.com/d/dbqyl9)\n \nTaxes can significantly affect the sale of a business. What are strategies that the Business Owner can use with their Professionals to reduce the taxes paid on the sale of their business.  Please join us as Thomas Dougherty and Greg Carlson discuss tax considerations in business transition planning and resulting sale/transfer transactions. \n \nLearning Objectives:\n What Type of Entity Do You Use to Conduct Your Business and the effect on taxes Stock Sale vs Asset Sale, Ordinary Income & Recapture, Installment Sales, Covenant Not to Compete & Goodwill What Charitable Strategies can be used to reduce taxes. Learn new strategies to eliminate or reduce taxes at a sale \nRegistration, Networking, and Breakfast: 7:30 am\n Presentation Begins: 8:00 am\n Program Ends: 9:00 am \n
SUMMARY:Breakfast Meeting: Tax Considerations in Business Transition Planning - Twin Cities Estate Planning Council 
PRIORITY:3
BEGIN:VALARM
TRIGGER:PT18H
ACTION:DISPLAY
DESCRIPTION:Reminder
END:VALARM
END:VEVENT
END:VCALENDAR