BEGIN:VCALENDAR
PRODID:-//hacksw/handcal//NONSGML v1.0//EN
VERSION:2.0
METHOD:PUBLISH
BEGIN:VEVENT
DTSTART:20180327T163000Z
DTEND:20180327T180000Z
LOCATION:Midland Hills Country Club
UID:1559820180327T163000ZLunch Meeting:  Cabin Succession Planning
DTSTAMP:20260420T094320Z
DESCRIPTION:\nCabin Succession Planning \n \nRuthanne Hedstrom Vos, Attorney at Law \n \n[REGISTRATION ](http://www.cvent.com/d/xtqq0r/4W)\n \n[DETAILS](http://www.cvent.com/d/xtqq0r)\n \nThe Family Cabin is different from other assets and must be addressed as such – it’s the one asset the family may want to use into perpetuity. Sentiments associated with Cabin memories often transform this real estate asset into an “heirloom.” However, crafting a transition plan without a family discussion with potential future owners can prove disastrous, if future owners are not given a chance to weigh in on interest, affordability, and other important issues. The importance of preserving family relationships after a loved one passes is (or should be) a goal for all families, further highlighting the importance of thoughtful cabin succession planning, and a plan that is coordinated with the owners’ overall estate plan. \n \nRegistration, Networking, and Lunch: 11:30 am\n Presentation Begins: Noon\n Program Ends: 1:00 pm\n
SUMMARY:Lunch Meeting:  Cabin Succession Planning - Twin Cities Estate Planning Council 
PRIORITY:3
BEGIN:VALARM
TRIGGER:PT18H
ACTION:DISPLAY
DESCRIPTION:Reminder
END:VALARM
END:VEVENT
END:VCALENDAR