BEGIN:VCALENDAR
PRODID:-//hacksw/handcal//NONSGML v1.0//EN
VERSION:2.0
METHOD:PUBLISH
BEGIN:VEVENT
DTSTART:20180424T123000Z
DTEND:20180424T140000Z
LOCATION:Midland Hills Country Club
UID:1555520180424T123000ZBreakfast Meeting: Will Your Clients Outlive Their Life Insurance Coverage?
DTSTAMP:20260420T094457Z
DESCRIPTION:\nWill Your Clients Outlive Their Life Insurance Coverage?\nPresenter Aaron Hanson, Policy Remediation\n \n[REGISTRATION ](http://www.cvent.com/d/dtqmzm/4W)\n \n[DETAILS](http://www.cvent.com/d/dtqmzm)\n \nAfter almost a decade of historic low interest rates and market volatility, the life insurance industry is experiencing issues never seen before. In the last few years some life insurance carriers have raised the cost of insurance inside policies by up to 600 percent causing carrying cost premiums to double and triple and forcing policy holders to make painful decisions on their life insurance coverage. In addition, the historically low interest rates are also causing policy performance to suffer as most permanent life insurance is invested in fixed instruments. The fallout is affecting estate plans nationwide. This breakfast session will address the current issues around life insurance and life insurance policy management and provide insight into problems that, unfortunately, may be with us for a while. \n \nRegistration, Networking, and Breakfast: 7:30 am\n Presentation Begins: 8:00 am\n Program Ends: 9:00 am \n \nApproved for one hour of Minnesota insurance and one hour of CFP continuing education.\nPending approval for one hour of CLE continuing education.\n \n \n
SUMMARY:Breakfast Meeting: Will Your Clients Outlive Their Life Insurance Coverage? - Twin Cities Estate Planning Council 
PRIORITY:3
BEGIN:VALARM
TRIGGER:PT18H
ACTION:DISPLAY
DESCRIPTION:Reminder
END:VALARM
END:VEVENT
END:VCALENDAR