BEGIN:VCALENDAR
PRODID:-//hacksw/handcal//NONSGML v1.0//EN
VERSION:2.0
METHOD:PUBLISH
BEGIN:VEVENT
DTSTART:20161115T223000Z
DTEND:20161116T010000Z
LOCATION:Crowne Plaza Northstar
UID:1394320161115T223000ZDinner Meeting: The Elimination of (Most) Valuation Discounts
DTSTAMP:20260420T094528Z
DESCRIPTION:\nThe Elimination of (Most) Valuation Discounts\nPresenter Nick Hulwi\n \n[VIEW DETAILS](http://www.cvent.com/d/pvq2x8)\n \n[REGISTER](http://www.cvent.com/d/pvq2x8/4W)\n \nThe Internal Revenue Service has issued proposed regulations with the purpose of preventing the undervaluation of intra-family transfers of interests in corporations and partnerships for estate, gift and generation-skipping transfer tax purposes. Specifically, the proposed regulations address the treatment of certain lapsing rights and restrictions on liquidation in determining the value of these interests.\n\n These regulations clarify that section 2704 applies to corporations, partnerships, LLCs, and other entities/arrangements that are business entities, regardless of whether the entity/arrangement is domestic or foreign, and regardless of how the entity/arrangement is classified, or is disregarded as an entity separate from its owner, for other federal tax purposes. \n \nLearning Objectives\n By the end of the session, attendees will:\n Understand the basics of section 2704  Identify the key differences between the current and proposed regulations  Appreciate the impact of the proposed regulations on intra-family transfers \nNetworking and Registration:  4:30-5:00 pm\nPresentation:  5:00-6:00 pm\n Dinner:  6:00-7:00 pm\n \nCrowne Plaza Northstar\n 618 Second Avenue South\n Minneapolis, Minnesota 55402\n 612-338-2288\n
SUMMARY:Dinner Meeting: The Elimination of (Most) Valuation Discounts - Twin Cities Estate Planning Council 
PRIORITY:3
BEGIN:VALARM
TRIGGER:PT18H
ACTION:DISPLAY
DESCRIPTION:Reminder
END:VALARM
END:VEVENT
END:VCALENDAR