BEGIN:VCALENDAR
PRODID:-//hacksw/handcal//NONSGML v1.0//EN
VERSION:2.0
METHOD:PUBLISH
BEGIN:VEVENT
DTSTART:20150916T210000Z
DTEND:20150917T000000Z
LOCATION:Urban Growler® Brewing Company - Hay Loft Room
UID:1236320150916T210000ZTwin Cities Estate Planning Council Social
DTSTAMP:20260420T093557Z
DESCRIPTION:\n\n \nSocializing, Networking, Comradery\nBring your colleagues – food & one beverage provided, then cash bar\n ------\n\nThe Minneapolis & St. Paul Estate Planning Councils were started back in the 40s. In Minneapolis, the members would meet in the basement of the Normandy Hotel for dinner, popovers, a speaker and then sip cognac and smoke cigars while discussing heady estate planning issues. We’ve come a long way since then! The organizations merged their boards several years back and starting with the 2015 – 2016 season are combining into one organization.\n ------\n\nWe welcome current & former members, past guests and anyone in the Legal, Accounting, Trust, Financial Planning & Insurance or Appraisal business with a focus on Estate Planning to come join us for a social event.\n \n[Summary Link ](http://www.cvent.com/d/prqg2f)\n \n[Registration Link](http://www.cvent.com/d/prqg2f/4W)\n \nRSVP Before: Monday, September 14, 2015\n \n \n \n \n
SUMMARY:Twin Cities Estate Planning Council Social - Twin Cities Estate Planning Council 
PRIORITY:3
BEGIN:VALARM
TRIGGER:PT18H
ACTION:DISPLAY
DESCRIPTION:Reminder
END:VALARM
END:VEVENT
END:VCALENDAR