BEGIN:VCALENDAR
PRODID:-//hacksw/handcal//NONSGML v1.0//EN
VERSION:2.0
METHOD:PUBLISH
BEGIN:VEVENT
DTSTART:20160524T223000Z
DTEND:20160525T010000Z
LOCATION:Crowne Plaza Northstar
UID:1236220160524T223000ZDinner Meeting: Conservation Easements - From identifying the opportunity, to protecting the gift
DTSTAMP:20260420T093557Z
DESCRIPTION:\nCONSERVATION EASEMENTS\nFrom identifying the opportunity, to protecting the gift\n\nPresenters:\nCarissa Brown, Trust Practice Leader - MN, Northern Trust\nJames Walston, Real Estate Attorney, Lindquist & Vennum LLP\nDwight Dahlen, Appraiser, Dahlen, Dwyer & Foley, Inc.\nAnn Thies, Director of Conservation Stewardship, Minnesota Land Trust \n \nConservation easements are an effective, and increasingly-used tool for preserving treasured land, achieving client goals without complicated long-term trusts, and achieving income and estate tax savings. This panel will discuss how to identify a client who may be interested in granting a conservation easement, tips for negotiating the transaction, the process for valuing the easement for income and estate tax deduction purposes, and how easements are defended in perpetuity. \n \n[REGISTRATION LINK](http://www.cvent.com/d/pfqrsb/4W)\n \n[DETAILS LINK](http://www.cvent.com/d/pfqrsb)\n \nCredits Pending\n \nNetworking and Registration: 4:30 - 5:00 pm\n Presentation: 5:00 - 6:00 pm\n Dinner: 6:00 - 7:00 pm\n
SUMMARY:Dinner Meeting: Conservation Easements - From identifying the opportunity, to protecting the gift - Twin Cities Estate Planning Council 
PRIORITY:3
BEGIN:VALARM
TRIGGER:PT18H
ACTION:DISPLAY
DESCRIPTION:Reminder
END:VALARM
END:VEVENT
END:VCALENDAR