BEGIN:VCALENDAR
PRODID:-//hacksw/handcal//NONSGML v1.0//EN
VERSION:2.0
METHOD:PUBLISH
BEGIN:VEVENT
DTSTART:20160322T163000Z
DTEND:20160322T180000Z
LOCATION:Crowne Plaza Northstar
UID:1236020160322T163000ZCOMBINED Lunch St. Paul & Minneapolis: Trust Litigation - When Things Go Wrong
DTSTAMP:20260420T093518Z
DESCRIPTION:\nTrust Litigation - When Things Go Wrong\nPresenters Alan Silver and Casey Marshall\n \n[REGISTRATION LINK](http://www.cvent.com/d/ffqqgp/4W) \n \nJoin us to gain knowledge on what you as an estate planner can do to avoid or minimize litigation, including the impact of the new Minnesota UTC. Alan Silver and Casey Marshall of Bassford Remele, A Professional Association, will answer these questions: \n Should an estate planner videotape the client conferences Do you save or discard drafts of wills and trusts and other portions of the planner’s file Are attorney communications with estate clients privileged? How will the new Minnesota UTC impact estate planning? \n \nRegistration, Networking, and Lunch: 11:30 am\n Presentation Begins: Noon\n Program Ends: 1:00 pm\n \nCredits Pending\n \n[DETAILED INFORMATION](http://www.cvent.com/d/ffqqgp)\n
SUMMARY:COMBINED Lunch St. Paul & Minneapolis: Trust Litigation - When Things Go Wrong - Twin Cities Estate Planning Council 
PRIORITY:3
BEGIN:VALARM
TRIGGER:PT18H
ACTION:DISPLAY
DESCRIPTION:Reminder
END:VALARM
END:VEVENT
END:VCALENDAR