BEGIN:VCALENDAR
PRODID:-//hacksw/handcal//NONSGML v1.0//EN
VERSION:2.0
METHOD:PUBLISH
BEGIN:VEVENT
DTSTART:20160126T223000Z
DTEND:20160127T010000Z
LOCATION:Crowne Plaza Northstar
UID:1235820160126T223000ZCOMBINED Dinner St. Paul & Minneapolis: Next Gen Engagement
DTSTAMP:20260420T094201Z
DESCRIPTION:\nEngaging the Next Generation (Before it’s Too Late)\nPresenter Jill Shipley\n \n[INFORMATION LINK](http://www.cvent.com/d/rfq9ck)\n \n[REGISTRATION LINK](http://www.cvent.com/d/rfq9ck/4W)\n \nDeveloping relationships with the next generation is critical for the sustainability of your firm. Every year for the next fifty, $1 trillion will transfer to the next generation. Also, 95% of next generation investors say they plan to fire their advisors when the wealth transfer event happens because they do not have a personal relationship with these individuals and feel they are their “parents’ advisors.”\n \nEngaging and educating your clients’ children and grandchildren is also critical for the sustainability of the family’s wealth. 70% of families fail to successfully transition wealth from one generation to the next mainly because of a lack of communication within the family and unprepared heirs. As professionals we have an opportunity to promote communication across generations and educate heirs on their roles and responsibilities to ensure they are prepared for life with wealth.\n \nThis presentation will focus on engaging and advising your clients’ children – why you should begin a discussion with your clients, what you can do to introduce the need to them and their children, and how to effectively engage and advise the rising generation to ensure a lasting financial legacy for their family and for your business.\n \nCredits Pending\n \nRegistration and Networking - 4:30 pm\n Meeting Begins - 5:00 pm\n Dinner - 6:00 pm\n
SUMMARY:COMBINED Dinner St. Paul & Minneapolis: Next Gen Engagement - Twin Cities Estate Planning Council 
PRIORITY:3
BEGIN:VALARM
TRIGGER:PT18H
ACTION:DISPLAY
DESCRIPTION:Reminder
END:VALARM
END:VEVENT
END:VCALENDAR