BEGIN:VCALENDAR
PRODID:-//hacksw/handcal//NONSGML v1.0//EN
VERSION:2.0
METHOD:PUBLISH
BEGIN:VEVENT
DTSTART:20151027T163000Z
DTEND:20151027T180000Z
LOCATION:Midland Hills Country Club
UID:1235620151027T163000ZCOMBINED Lunch St. Paul & Minneapolis: Digital Security & Estate Considerations
DTSTAMP:20260420T094228Z
DESCRIPTION:\nDigital Security & Estate Considerations\nPresenter Mark Lanterman\n \n[REGISTRATION LINK](http://www.cvent.com/d/7rq65j/4W) \n \nYou've read the headlines. Unfortunately, the question now is not if your information is going to be accessed or stolen, but when. Not surprisingly, estate planners are not immune to these attacks. In fact, financial advisors and their clients face an increased risk for personal security breaches.\n\n In an effort to inform the attendees of current developments in the digital underground as well as provide realistic advice for cyber protection, Mark Lanterman will be discussing recent high profile cyber-crime events, including Web Site breaches impacting retailers, banks, Hollywood and government agencies. Mark will discuss particularly dangerous types of threats that might effect individuals such as phishing, malware, and wifi attacks. \n \nRegistration, Networking, and Lunch: 11:30 am\n Presentation Begins: Noon\n Program Ends: 1:00 pm\n \nCredits Pending\n \n[MORE DETAILS](http://www.cvent.com/d/7rq65j)\n
SUMMARY:COMBINED Lunch St. Paul & Minneapolis: Digital Security & Estate Considerations - Twin Cities Estate Planning Council 
PRIORITY:3
BEGIN:VALARM
TRIGGER:PT18H
ACTION:DISPLAY
DESCRIPTION:Reminder
END:VALARM
END:VEVENT
END:VCALENDAR