BEGIN:VCALENDAR
PRODID:-//hacksw/handcal//NONSGML v1.0//EN
VERSION:2.0
METHOD:PUBLISH
BEGIN:VEVENT
DTSTART:20141028T223000Z
DTEND:20141029T010000Z
LOCATION:Crowne Plaza Northstar
UID:1083220141028T223000ZMinneapolis Dinner Meeting: Medicare Adventure
DTSTAMP:20260420T093607Z
DESCRIPTION:\nWelcome to the Medicare Adventure: \nTips, Pointers and Dates for clients and their caregiver\nPresenter Kimberlee Bluhm\n \n[REGISTRATION LINK](http://www.cvent.com/d/l4qvmc)\n \nWhen one gets ready to retire, dreams of the adventures start to play on one’s dreams. The thought of Medicare starting, maybe not so much. Most people have never had to think about what their insurance might look like as they age because their whole work lives, they were told what their insurance would be by the employer. Join us for a brief discussion on what Medicare is, pointers and dates that are important to keep in mind.\n \nSometimes we find ourselves in the care-giving role for our love one who has Medicare. We will also discuss first steps and things to keep in mind.\n \nRegistration and Networking: 5:30 pm\n Presentation Begins: 6:00 pm\n Dinner Served: 7:00 pm\n Presentation Ends: 8:00 pm\n \n[REGISTRATION LINK](http://www.cvent.com/d/l4qvmc)\n RSVP by October 23rd, 5:00 pm.\n  \n
SUMMARY:Minneapolis Dinner Meeting: Medicare Adventure - Twin Cities Estate Planning Council 
PRIORITY:3
BEGIN:VALARM
TRIGGER:PT18H
ACTION:DISPLAY
DESCRIPTION:Reminder
END:VALARM
END:VEVENT
END:VCALENDAR