BEGIN:VCALENDAR
PRODID:-//hacksw/handcal//NONSGML v1.0//EN
VERSION:2.0
METHOD:PUBLISH
BEGIN:VEVENT
DTSTART:20150317T123000Z
DTEND:20150317T140000Z
LOCATION:Midland Hills Country Club
UID:1082920150317T123000ZCOMBINED Minneapolis and St. Paul Breakfast Meeting
DTSTAMP:20260420T094523Z
DESCRIPTION:\nWhat Are You Missing with Long Term Care Planning?\nwith Presenter Debra Newman, CLU, ChFC, LTCP\n \n[REGISTRATION LINK](http://www.cvent.com/d/wrq99d/4W) \n \nIt isn’t crazy to be in the long term care business. Learn why. Your client’s need for a long term care plan is paramount and they know it. Understand how to have long term care discussions that apply to financial, business, and estate planning. Linking new products to long term care, life insurance and annuities will be compared to traditional long term care insurance. We will clarify some of the product confusion and help you learn the role that annuities and asset based products play in marketplace. ‎‎\n\nOBJECTIVES\n Come to understand:\n -The current landscape of long term care solutions; \n -Long term care as an employer funded solution;\n -Estate shrinkage and the impact on future generations.\n \n \nRegistration, Networking and Breakfast: 7:30 am\n Speaker Begins: 8:00\n Meeting Ends: 9:00 am\n \n[DETAILS LINK](http://www.cvent.com/d/wrq99d)\n \nRSVP by March 12th, 2015\n
SUMMARY:COMBINED Minneapolis and St. Paul Breakfast Meeting - Twin Cities Estate Planning Council 
PRIORITY:3
BEGIN:VALARM
TRIGGER:PT18H
ACTION:DISPLAY
DESCRIPTION:Reminder
END:VALARM
END:VEVENT
END:VCALENDAR