BEGIN:VCALENDAR
PRODID:-//hacksw/handcal//NONSGML v1.0//EN
VERSION:2.0
METHOD:PUBLISH
BEGIN:VEVENT
DTSTART:20150217T133000Z
DTEND:20150217T150000Z
LOCATION:Midland Hills Country Club, Roseville
UID:1082820150217T133000ZSt. Paul Breakfast Meeting: Heckerling Institute on Estate Planning Review
DTSTAMP:20260420T094030Z
DESCRIPTION:\nHeckerling Institute on Estate Planning Review\nwith Presenter Cindy Ackerman\n \n[REGISTRATION LINK](http://www.cvent.com/d/5rq8lf)\n \nThe Heckerling Institute on Estate Planning is the national gathering place for estate planners, including attorneys, charitable giving professionals, accountants, certified financial planners, investment advisors, trust officers, non-profit advisors, and educators. Join us for a recap of this year’s Institute provided by Cindy Ackerman, a shareholder with Moss & Barnett’s wealth preservation and estate planning practice area, including guidance on both the tax and non-tax issues involved in individual and estate planning; the increasingly important area of income tax planning for individuals, trusts, and estates; and the intersection of income and wealth transfer tax planning. ‎\n \nRegistration, Networking and Breakfast: 7:30 am\n Speaker Begins: 8:00\n Meeting Ends: 9:00 am\n \n[REGISTRATION LINK](http://www.cvent.com/d/5rq8lf)\n \nRSVP by February 12th, 2015\n \n \n
SUMMARY:St. Paul Breakfast Meeting: Heckerling Institute on Estate Planning Review - Twin Cities Estate Planning Council 
PRIORITY:3
BEGIN:VALARM
TRIGGER:PT18H
ACTION:DISPLAY
DESCRIPTION:Reminder
END:VALARM
END:VEVENT
END:VCALENDAR