BEGIN:VCALENDAR
PRODID:-//hacksw/handcal//NONSGML v1.0//EN
VERSION:2.0
METHOD:PUBLISH
BEGIN:VEVENT
DTSTART:20140916T123000Z
DTEND:20140916T140000Z
LOCATION:Midland Hills Country Club
UID:1082420140916T123000ZCOMBINED St. Paul & Minneapolis BREAKFAST Meeting: Elder Abuse
DTSTAMP:20260420T094611Z
DESCRIPTION:\nResponding to Elder Financial Exploitation\n Understanding and Protecting Our Aging Clients from Financial Abuse\nIris Freeman, MSW\nUpdate:  Approved for 1.0 hours of Minnesota Insurance CE\n \n\n[DETAILS LINK](http://www.cvent.com/d/n4qf0t)\n \nThis one-hour this session focuses on the widely-acknowledged and complex phenomenon of elder financial exploitation. Iris Freeman, Director of the Vulnerable Adult Justice Project at William Mitchell College of Law, will provide an overview of the issue and community resources to help victims. Her topics include the scope of the problem; recent research findings about the predictors and effects of victimization; characteristic ways that perpetrators and victims explain their situations; warning signs of exploitation; as well as how financial professionals can work with adult protective services and law enforcement in these cases.\n \nParticipants in this session will be able to: \n Describe the estimated extent of elder financial exploitation in the nation and in Minnesota.   Describe limitations in those data and why it is likely that the number of cases and dollar losses are considerably higher.   Discuss several recent findings on the effect of aging on financial decision-making, in persons with dementia and those who do not.   Identify risk factors for victimization and characteristics of those who exploit elders.   Identify many warning signs of elder financial exploitation  Identify where to report suspected financial exploitation and what public agencies can do. \nRegistration, Networking, and Breakfast: 7:30 am\n Presentation Begins: 8:00 am\n Program Ends: 9:00 am\n \n[DETAILS LINK\n RSVP by 5 pm, September 11th](http://www.cvent.com/d/n4qf0t)\n  \n
SUMMARY:COMBINED St. Paul & Minneapolis BREAKFAST Meeting: Elder Abuse - Twin Cities Estate Planning Council 
PRIORITY:3
BEGIN:VALARM
TRIGGER:PT18H
ACTION:DISPLAY
DESCRIPTION:Reminder
END:VALARM
END:VEVENT
END:VCALENDAR